BEGIN:VCALENDAR
VERSION:2.0
PRODID:SchoolNow
CALSCALE:GREGORIAN
BEGIN:VEVENT
UID:27ede8fe-ba0d-11ee-970b-0a58a9feac02
DTSTAMP:20240123T163336Z
SUMMARY:No  School  - Holiday Day
LOCATION:Steel Valley School District
URL;VALUE=URI:https://www.steelvalleysd.org/communication/calendar/5198534/
 no-school-holiday-day
DTSTART:20240219T130000Z
DTEND:20240219T210000Z
END:VEVENT
END:VCALENDAR
