BEGIN:VCALENDAR
VERSION:2.0
PRODID:SchoolNow
CALSCALE:GREGORIAN
BEGIN:VEVENT
UID:d20a8f50-ba0c-11ee-9f55-0ec5cf6edccb
DTSTAMP:20240123T163112Z
SUMMARY:Student Early Student Release
LOCATION:Steel Valley School District
URL;VALUE=URI:https://www.steelvalleysd.org/communication/calendar/5198532/
 student-early-student-release-clone
DTSTART:20240213T120000Z
DTEND:20240213T210000Z
END:VEVENT
END:VCALENDAR
