BEGIN:VCALENDAR
VERSION:2.0
PRODID:SchoolNow
CALSCALE:GREGORIAN
BEGIN:VEVENT
UID:d2b0213e-9b69-11ee-b9d5-02e6de721ad7
DTSTAMP:20231215T164850Z
SUMMARY:Report Cards
LOCATION:Steel Valley School District
URL;VALUE=URI:https://www.steelvalleysd.org/communication/calendar/5007082/
 report-cards
DTSTART:20240119T130000Z
DTEND:20240119T210000Z
END:VEVENT
END:VCALENDAR
