BEGIN:VCALENDAR
VERSION:2.0
PRODID:SchoolNow
CALSCALE:GREGORIAN
BEGIN:VEVENT
UID:ec4c4394-9b68-11ee-a850-0a975cb9324d
DTSTAMP:20231215T164527Z
SUMMARY:No  School  for  Students
LOCATION:Steel Valley School District
URL;VALUE=URI:https://www.steelvalleysd.org/communication/calendar/5007081/
 no-school-for-students
DTSTART:20240116T130000Z
DTEND:20240116T210000Z
END:VEVENT
END:VCALENDAR
