BEGIN:VCALENDAR
VERSION:2.0
PRODID:SchoolNow
CALSCALE:GREGORIAN
BEGIN:VEVENT
UID:8a0272b2-9b68-11ee-98c7-02e6de721ad7
DTSTAMP:20231215T164600Z
SUMMARY:No  School  - Holiday
LOCATION:Steel Valley School District
URL;VALUE=URI:https://www.steelvalleysd.org/communication/calendar/5007077/
 no-school-holiday
DTSTART:20240115T130000Z
DTEND:20240115T210000Z
END:VEVENT
END:VCALENDAR
