BEGIN:VCALENDAR
VERSION:2.0
PRODID:SchoolNow
CALSCALE:GREGORIAN
BEGIN:VEVENT
UID:080a50d8-99f4-11ee-ae7f-023dde592b45
DTSTAMP:20241025T164919Z
SUMMARY:Regular Board Meeting - October
URL;VALUE=URI:https://www.steelvalleysd.org/communication/calendar/4998130/
 regular-board-meeting-october
DTSTART:20241024T230000Z
DTEND:20241025T000000Z
ATTACH;FILENAME="October 24, 2024 Regular Agenda.pdf";FMTTYPE=application/p
 df:https://campussuite-storage.s3.amazonaws.com/prod/1074787/6763d576-3536
 -11e7-9e05-124f7febbf4a/2867375/61bdd54a-9189-11ef-ade8-024cbf038cf1/file/
 October 24\, 2024 Regular Agenda.pdf
END:VEVENT
END:VCALENDAR
