BEGIN:VCALENDAR
VERSION:2.0
PRODID:SchoolNow
CALSCALE:GREGORIAN
BEGIN:VEVENT
UID:c08f3c5a-99f3-11ee-b64b-0a58a9feac02
DTSTAMP:20240814T185650Z
SUMMARY:Regular Board Meeting - August
URL;VALUE=URI:https://www.steelvalleysd.org/communication/calendar/4998128/
 regular-board-meeting-august
DTSTART:20240815T230000Z
DTEND:20240816T000000Z
ATTACH;FILENAME="August 15, 2024 Regular Agenda.pdf";FMTTYPE=application/pd
 f:https://campussuite-storage.s3.amazonaws.com/prod/1074787/6763d576-3536-
 11e7-9e05-124f7febbf4a/2829824/f25c76e4-5a6e-11ef-947e-0a58a9feac02/file/A
 ugust 15\, 2024 Regular Agenda.pdf
END:VEVENT
END:VCALENDAR
