BEGIN:VCALENDAR
VERSION:2.0
PRODID:SchoolNow
CALSCALE:GREGORIAN
BEGIN:VEVENT
UID:f7f69ee2-99f1-11ee-aeba-02af248ec653
DTSTAMP:20240523T001542Z
SUMMARY:Regular Board Meeting - May
URL;VALUE=URI:https://www.steelvalleysd.org/communication/calendar/4998122/
 regular-board-meeting-april-clone
DTSTART:20240523T230000Z
DTEND:20240524T000000Z
ATTACH;FILENAME="May 23, 2024 Regular Agenda.pdf";FMTTYPE=application/pdf:h
 ttps://campussuite-storage.s3.amazonaws.com/prod/1074787/6763d576-3536-11e
 7-9e05-124f7febbf4a/2793021/8af7051c-1899-11ef-b767-02fbff80c39d/file/May 
 23\, 2024 Regular Agenda.pdf
END:VEVENT
END:VCALENDAR
