BEGIN:VCALENDAR
VERSION:2.0
PRODID:SchoolNow
CALSCALE:GREGORIAN
BEGIN:VEVENT
UID:b834b6ea-99f1-11ee-88a2-0e1a88493c1f
DTSTAMP:20240320T211905Z
SUMMARY:Regular Board Meeting - March
URL;VALUE=URI:https://www.steelvalleysd.org/communication/calendar/4998120/
 regular-board-meeting-march
DTSTART:20240321T230000Z
DTEND:20240322T000000Z
ATTACH;FILENAME="March 21, 2024 Regular Agenda.pdf";FMTTYPE=application/pdf
 :https://campussuite-storage.s3.amazonaws.com/prod/1074787/6763d576-3536-1
 1e7-9e05-124f7febbf4a/2760587/735beba0-e6ff-11ee-b9e1-0afff2e73ec3/file/Ma
 rch 21\, 2024 Regular Agenda.pdf
END:VEVENT
END:VCALENDAR
