BEGIN:VCALENDAR
VERSION:2.0
PRODID:SchoolNow
CALSCALE:GREGORIAN
BEGIN:VEVENT
UID:076b93c4-99f1-11ee-8b33-02908275ef97
DTSTAMP:20241019T023202Z
SUMMARY:Board Worksession - October
LOCATION:High School Library
URL;VALUE=URI:https://www.steelvalleysd.org/communication/calendar/4998117/
 board-worksession-october
DTSTART:20241021T233000Z
DTEND:20241022T003000Z
ATTACH;FILENAME="October 21, 2024 Worksession Agenda.pdf";FMTTYPE=applicati
 on/pdf:https://campussuite-storage.s3.amazonaws.com/prod/1074787/6763d576-
 3536-11e7-9e05-124f7febbf4a/2865533/468fa8b8-8dc2-11ef-a597-0a58a9feac02/f
 ile/October 21\, 2024 Worksession Agenda.pdf
END:VEVENT
END:VCALENDAR
