BEGIN:VCALENDAR
VERSION:2.0
PRODID:SchoolNow
CALSCALE:GREGORIAN
BEGIN:VEVENT
UID:9e6ea898-99f0-11ee-9885-0a58a9feac02
DTSTAMP:20240719T214140Z
SUMMARY:Board Worksession - July
LOCATION:High School Library
URL;VALUE=URI:https://www.steelvalleysd.org/communication/calendar/4998114/
 board-worksession-july
DTSTART:20240722T233000Z
DTEND:20240723T003000Z
ATTACH;FILENAME="July 22, 2024 Worksession Agenda.pdf";FMTTYPE=application/
 pdf:https://campussuite-storage.s3.amazonaws.com/prod/1074787/6763d576-353
 6-11e7-9e05-124f7febbf4a/2820242/9fff12b4-4617-11ef-8f8b-0a58a9feac02/file
 /July 22\, 2024 Worksession Agenda.pdf
END:VEVENT
END:VCALENDAR
