BEGIN:VCALENDAR
VERSION:2.0
PRODID:SchoolNow
CALSCALE:GREGORIAN
BEGIN:VEVENT
UID:8086fc72-99f0-11ee-9e37-0a58a9feac02
DTSTAMP:20240616T212043Z
SUMMARY:Board Worksession - June
LOCATION:High School Library
URL;VALUE=URI:https://www.steelvalleysd.org/communication/calendar/4998113/
 board-worksession-june
DTSTART:20240617T233000Z
DTEND:20240618T003000Z
ATTACH;FILENAME="June 17, 2024 Worksession Agenda.pdf";FMTTYPE=application/
 pdf:https://campussuite-storage.s3.amazonaws.com/prod/1074787/6763d576-353
 6-11e7-9e05-124f7febbf4a/2808404/39a4714a-2c26-11ef-96ec-0a58a9feac02/file
 /June 17\, 2024 Worksession Agenda.pdf
END:VEVENT
END:VCALENDAR
