BEGIN:VCALENDAR
VERSION:2.0
PRODID:SchoolNow
CALSCALE:GREGORIAN
BEGIN:VEVENT
UID:5c0aa3ee-99f0-11ee-853e-0a58a9feac02
DTSTAMP:20240517T234322Z
SUMMARY:Board Worksession - May
LOCATION:High School Library
URL;VALUE=URI:https://www.steelvalleysd.org/communication/calendar/4998112/
 board-worksession-may
DTSTART:20240520T233000Z
DTEND:20240521T003000Z
ATTACH;FILENAME="May 20, 2024 Worksession Agenda.pdf";FMTTYPE=application/p
 df:https://campussuite-storage.s3.amazonaws.com/prod/1074787/6763d576-3536
 -11e7-9e05-124f7febbf4a/2789726/35de626e-14a7-11ef-a9eb-0a58a9feac02/file/
 May 20\, 2024 Worksession Agenda.pdf
END:VEVENT
END:VCALENDAR
