BEGIN:VCALENDAR
VERSION:2.0
PRODID:SchoolNow
CALSCALE:GREGORIAN
BEGIN:VEVENT
UID:22af0fc2-99f0-11ee-b735-02908275ef97
DTSTAMP:20240125T162703Z
SUMMARY:Regular Board Meeting - January
LOCATION:High School Library In-Person and Via Live Stream
URL;VALUE=URI:https://www.steelvalleysd.org/communication/calendar/4998111/
 regular-board-meeting-january
DTSTART:20240126T000000Z
DTEND:20240126T010000Z
ATTACH;FILENAME="January 25, 2024 Regular Agenda.pdf";FMTTYPE=application/p
 df:https://campussuite-storage.s3.amazonaws.com/prod/1074787/6763d576-3536
 -11e7-9e05-124f7febbf4a/2730685/9fe56766-bb9c-11ee-91ae-02068b761583/file/
 January 25\, 2024 Regular Agenda.pdf
END:VEVENT
END:VCALENDAR
