BEGIN:VCALENDAR
VERSION:2.0
PRODID:SchoolNow
CALSCALE:GREGORIAN
BEGIN:VEVENT
UID:c2a0db38-99ef-11ee-98b4-0a58a9feac02
DTSTAMP:20240422T143415Z
SUMMARY:Board Worksession - April
LOCATION:High School Library
URL;VALUE=URI:https://www.steelvalleysd.org/communication/calendar/4998110/
 board-worksession-april
DTSTART:20240422T233000Z
DTEND:20240423T003000Z
ATTACH;FILENAME="April 22, 2024 Worksession Agenda.pdf";FMTTYPE=application
 /pdf:https://campussuite-storage.s3.amazonaws.com/prod/1074787/6763d576-35
 36-11e7-9e05-124f7febbf4a/2774199/4ef68f72-ffe6-11ee-860c-0a58a9feac02/fil
 e/April 22\, 2024 Worksession Agenda.pdf
END:VEVENT
END:VCALENDAR
