BEGIN:VCALENDAR
VERSION:2.0
PRODID:SchoolNow
CALSCALE:GREGORIAN
BEGIN:VEVENT
UID:9e8feb76-99ef-11ee-8743-0e0e943d6705
DTSTAMP:20240319T004528Z
SUMMARY:Board Worksession - March
LOCATION:High School Library
URL;VALUE=URI:https://www.steelvalleysd.org/communication/calendar/4998109/
 board-worksession-march
DTSTART:20240318T233000Z
DTEND:20240319T003000Z
ATTACH;FILENAME="March 18, 2024 Worksession Agenda REVISED.pdf";FMTTYPE=app
 lication/pdf:https://campussuite-storage.s3.amazonaws.com/prod/1074787/676
 3d576-3536-11e7-9e05-124f7febbf4a/2759540/f29183ac-e589-11ee-8783-0afffb29
 216d/file/March 18\, 2024 Worksession Agenda REVISED.pdf
END:VEVENT
END:VCALENDAR
