BEGIN:VCALENDAR
VERSION:2.0
PRODID:SchoolNow
CALSCALE:GREGORIAN
BEGIN:VEVENT
UID:756d18b8-99ef-11ee-bbaa-0a58a9feac02
DTSTAMP:20240224T214321Z
SUMMARY:Board Worksession - February
LOCATION:High School Library
URL;VALUE=URI:https://www.steelvalleysd.org/communication/calendar/4998104/
 board-worksession-february
DTSTART:20240227T003000Z
DTEND:20240227T013000Z
ATTACH;FILENAME="February 26, 2024 Worksession Agenda.pdf";FMTTYPE=applicat
 ion/pdf:https://campussuite-storage.s3.amazonaws.com/prod/1074787/6763d576
 -3536-11e7-9e05-124f7febbf4a/2747327/af37a20a-d35d-11ee-a00a-0a58a9feac02/
 file/February 26\, 2024 Worksession Agenda.pdf
END:VEVENT
END:VCALENDAR
