BEGIN:VCALENDAR
VERSION:2.0
PRODID:SchoolNow
CALSCALE:GREGORIAN
BEGIN:VEVENT
UID:4a741e90-99ef-11ee-b477-0a8cba9d03d5
DTSTAMP:20240119T200658Z
SUMMARY:Board Worksession - January
LOCATION:High School Library
URL;VALUE=URI:https://www.steelvalleysd.org/communication/calendar/4998103/
 board-worksession-january
DTSTART:20240123T003000Z
DTEND:20240123T013000Z
ATTACH;FILENAME="January  22, 2024 Worksession Agenda.pdf";FMTTYPE=applicat
 ion/pdf:https://campussuite-storage.s3.amazonaws.com/prod/1074787/6763d576
 -3536-11e7-9e05-124f7febbf4a/2727882/46109f52-b706-11ee-b38f-0a2bf7eedf57/
 file/January  22\, 2024 Worksession Agenda.pdf
END:VEVENT
END:VCALENDAR
