BEGIN:VCALENDAR
VERSION:2.0
PRODID:SchoolNow
CALSCALE:GREGORIAN
BEGIN:VEVENT
UID:effd541a-991a-11ee-951c-0efe44689c35
DTSTAMP:20231212T181906Z
SUMMARY:School Resumes
LOCATION:Steel Valley School District
URL;VALUE=URI:https://www.steelvalleysd.org/communication/calendar/4994995/
 school-resumes
DTSTART;VALUE=DATE:20240102
DTEND;VALUE=DATE:20240103
END:VEVENT
END:VCALENDAR
