BEGIN:VCALENDAR
VERSION:2.0
PRODID:SchoolNow
CALSCALE:GREGORIAN
BEGIN:VEVENT
UID:029a323c-9911-11ee-ba1f-0a58a9feac02
DTSTAMP:20231212T170835Z
SUMMARY:Care Mobile: February
LOCATION:Barrett Elementary
URL;VALUE=URI:https://www.steelvalleysd.org/communication/calendar/4994565/
 care-mobile-february
DTSTART:20240207T143000Z
DTEND:20240207T190000Z
END:VEVENT
END:VCALENDAR
