BEGIN:VCALENDAR
VERSION:2.0
PRODID:SchoolNow
CALSCALE:GREGORIAN
BEGIN:VEVENT
UID:63141e76-9910-11ee-a868-0a58a9feac02
DTSTAMP:20231212T170551Z
SUMMARY:Care Mobile: January
LOCATION:Steel Valley High School
URL;VALUE=URI:https://www.steelvalleysd.org/communication/calendar/4994557/
 care-mobile-january
DTSTART:20240103T143000Z
DTEND:20240103T190000Z
END:VEVENT
END:VCALENDAR
