BEGIN:VCALENDAR
VERSION:2.0
PRODID:SchoolNow
CALSCALE:GREGORIAN
BEGIN:VEVENT
UID:bfb0e56e-9835-11ee-b6e3-0a58a9feac02
DTSTAMP:20231211T145831Z
SUMMARY:Student Early Student Release
LOCATION:Steel Valley School District
URL;VALUE=URI:https://www.steelvalleysd.org/communication/calendar/4992844/
 student-early-student-release
DTSTART:20231220T120000Z
DTEND:20231220T210000Z
END:VEVENT
END:VCALENDAR
