BEGIN:VCALENDAR
VERSION:2.0
PRODID:SchoolNow
CALSCALE:GREGORIAN
BEGIN:VEVENT
UID:cafbfc1e-8fbc-11ee-ba01-0a58a9feac02
DTSTAMP:20231130T202015Z
SUMMARY:HS Winter Student Sports Pass on Sale
LOCATION:SVHS - Athletic Office
URL;VALUE=URI:https://www.steelvalleysd.org/communication/calendar/4976591/
 winter-high-school-student-sports-pass-on-sale
DTSTART:20231130T120700Z
DTEND:20231208T210700Z
END:VEVENT
END:VCALENDAR
