BEGIN:VCALENDAR
VERSION:2.0
PRODID:SchoolNow
CALSCALE:GREGORIAN
BEGIN:VEVENT
UID:a8dce642-8e23-11ee-b350-0a92ad655b73
DTSTAMP:20231128T192350Z
SUMMARY:Winter Break
LOCATION:Steel Valley School District
URL;VALUE=URI:https://www.steelvalleysd.org/communication/calendar/4973041/
 winter-break
DTSTART:20231222T192000Z
DTEND:20240101T202000Z
END:VEVENT
END:VCALENDAR
