BEGIN:VCALENDAR
VERSION:2.0
PRODID:SchoolNow
CALSCALE:GREGORIAN
BEGIN:VEVENT
UID:15b3036a-8e23-11ee-a230-0a58a9feac02
DTSTAMP:20231128T191943Z
SUMMARY:Act 80 Days
LOCATION:Steel Valley School District
URL;VALUE=URI:https://www.steelvalleysd.org/communication/calendar/4973040/
 act-80-days
DTSTART:20231221T120000Z
DTEND:20231221T210000Z
END:VEVENT
END:VCALENDAR
