BEGIN:VCALENDAR
VERSION:2.0
PRODID:SchoolNow
CALSCALE:GREGORIAN
BEGIN:VEVENT
UID:be08820c-8e22-11ee-9cf7-0a58a9feac02
DTSTAMP:20231206T202651Z
SUMMARY:Progress Reports
LOCATION:Steel Valley School District
URL;VALUE=URI:https://www.steelvalleysd.org/communication/calendar/4973036/
 progress-reports
DTSTART:20231206T110000Z
DTEND:20231206T200000Z
END:VEVENT
END:VCALENDAR
