BEGIN:VCALENDAR
VERSION:2.0
PRODID:SchoolNow
CALSCALE:GREGORIAN
BEGIN:VEVENT
UID:755dcb0c-8625-11ee-9522-0a58a9feac02
DTSTAMP:20231118T151633Z
SUMMARY:WPIAL 2A Champion & PIAA Qualifier
LOCATION:Acrisure Stadium
URL;VALUE=URI:https://www.steelvalleysd.org/communication/calendar/4956572/
 wpial-playoff-game-clone
DTSTART:20231124T190000Z
DTEND:20231124T220000Z
END:VEVENT
END:VCALENDAR
