BEGIN:VCALENDAR
VERSION:2.0
PRODID:SchoolNow
CALSCALE:GREGORIAN
BEGIN:VEVENT
UID:1fcc1cee-8327-11ee-801b-0e204bb2c03b
DTSTAMP:20231114T195126Z
SUMMARY:Semi Formal Ticket Sale
URL;VALUE=URI:https://www.steelvalleysd.org/communication/calendar/4947163/
 semi-formal-ticket-sale
DTSTART:20231207T010000Z
DTEND:20231208T214600Z
END:VEVENT
END:VCALENDAR
