BEGIN:VCALENDAR
VERSION:2.0
PRODID:SchoolNow
CALSCALE:GREGORIAN
BEGIN:VEVENT
UID:9dde8eae-8323-11ee-b88c-0ec55e216813
DTSTAMP:20231114T192549Z
SUMMARY:Semi-Formal
LOCATION:Saint John Cathedral Center
URL;VALUE=URI:https://www.steelvalleysd.org/communication/calendar/4947160/
 semi-formal
DTSTART:20240106T230000Z
DTEND:20240107T030000Z
END:VEVENT
END:VCALENDAR
