BEGIN:VCALENDAR
VERSION:2.0
PRODID:SchoolNow
CALSCALE:GREGORIAN
BEGIN:VEVENT
UID:1c8618c0-823a-11ee-924c-0a58a9feac02
DTSTAMP:20231113T153419Z
SUMMARY:Unity &  Kindness  Spirit Week
LOCATION:Steel Valley School District
URL;VALUE=URI:https://www.steelvalleysd.org/communication/calendar/4943951/
 unity-kindness-spirit-week
DTSTART:20231120T120000Z
DTEND:20231124T210000Z
END:VEVENT
END:VCALENDAR
