BEGIN:VCALENDAR
VERSION:2.0
PRODID:SchoolNow
CALSCALE:GREGORIAN
BEGIN:VEVENT
UID:a561e622-8237-11ee-8166-02989f2bbb57
DTSTAMP:20231113T151640Z
SUMMARY:Children's Grief Awareness Day
LOCATION:Steel Valley School District
URL;VALUE=URI:https://www.steelvalleysd.org/communication/calendar/4943928/
 childrens-grief-awareness-day
DTSTART:20231116T120000Z
DTEND:20231116T210000Z
END:VEVENT
END:VCALENDAR
