BEGIN:VCALENDAR
VERSION:2.0
PRODID:SchoolNow
CALSCALE:GREGORIAN
BEGIN:VEVENT
UID:57eb605c-80d5-11ee-af36-0a58a9feac02
DTSTAMP:20231111T210028Z
SUMMARY:WPIAL 2A Playoff vs Mohawk
LOCATION:West Allegheny HS
URL;VALUE=URI:https://www.steelvalleysd.org/communication/calendar/4941467/
 wpial-2a-playoff-vs-mohawk
DTSTART:20231118T000000Z
DTEND:20231118T020000Z
END:VEVENT
END:VCALENDAR
