BEGIN:VCALENDAR
VERSION:2.0
PRODID:SchoolNow
CALSCALE:GREGORIAN
BEGIN:VEVENT
UID:cf89b73a-7d74-11ee-91cc-027b3cca0579
DTSTAMP:20231107T135500Z
SUMMARY:Secondary Parent/Teacher Conference - Evening
LOCATION:Steel Valley Secondary School
URL;VALUE=URI:https://www.steelvalleysd.org/communication/calendar/4932977/
 secondary-parent-teacher-conference-evening
DTSTART:20231109T220000Z
DTEND:20231110T010000Z
END:VEVENT
END:VCALENDAR
