BEGIN:VCALENDAR
VERSION:2.0
PRODID:SchoolNow
CALSCALE:GREGORIAN
BEGIN:VEVENT
UID:a93a47a2-7d74-11ee-bb8d-0a58a9feac02
DTSTAMP:20231107T135431Z
SUMMARY:Secondary Parent/Teacher Conference - Afternoon
LOCATION:Steel Valley Secondary School
URL;VALUE=URI:https://www.steelvalleysd.org/communication/calendar/4932976/
 secondary-parent-teacher-conference-afternoon
DTSTART:20231109T170000Z
DTEND:20231109T200000Z
END:VEVENT
END:VCALENDAR
