BEGIN:VCALENDAR
VERSION:2.0
PRODID:SchoolNow
CALSCALE:GREGORIAN
BEGIN:VEVENT
UID:9fe5a37e-7c3c-11ee-87c1-0e6d6a57534b
DTSTAMP:20231106T003711Z
SUMMARY:WPIAL Playoff Game
LOCATION:Campbell Field
URL;VALUE=URI:https://www.steelvalleysd.org/communication/calendar/4929597/
 wpial-playoff-game
DTSTART:20231111T000000Z
DTEND:20231111T030000Z
END:VEVENT
END:VCALENDAR
