BEGIN:VCALENDAR
VERSION:2.0
PRODID:SchoolNow
CALSCALE:GREGORIAN
BEGIN:VEVENT
UID:1269eb28-7993-11ee-b83f-0e819f7d8a8d
DTSTAMP:20231102T152140Z
SUMMARY:Veterans Ceremony
LOCATION:Steel Valley High School
URL;VALUE=URI:https://www.steelvalleysd.org/communication/calendar/4922447/
 veterans-ceremony
DTSTART:20231110T143000Z
DTEND:20231110T163000Z
END:VEVENT
END:VCALENDAR
