BEGIN:VCALENDAR
VERSION:2.0
PRODID:SchoolNow
CALSCALE:GREGORIAN
BEGIN:VEVENT
UID:0b3d9414-7365-11ee-85b8-0aeab8a33e23
DTSTAMP:20231025T183351Z
SUMMARY:Thanksgiving Break
LOCATION:Steel Valley School District
URL;VALUE=URI:https://www.steelvalleysd.org/communication/calendar/4899523/
 thanksgiving-break
DTSTART;VALUE=DATE:20231123
DTEND;VALUE=DATE:20231128
END:VEVENT
END:VCALENDAR
