BEGIN:VCALENDAR
VERSION:2.0
PRODID:SchoolNow
CALSCALE:GREGORIAN
BEGIN:VEVENT
UID:6bbec7fc-6ec1-11ee-9481-0ad6e3edb94b
DTSTAMP:20231023T232914Z
SUMMARY:Informational Meeting for SV Parents
LOCATION:High School Auditorium
URL;VALUE=URI:https://www.steelvalleysd.org/communication/calendar/4882304/
 informational-meeting-for-sv-parents
DTSTART:20231024T230000Z
DTEND:20231025T000000Z
ATTACH;FILENAME=SV Security Event.pdf;FMTTYPE=application/pdf:https://campu
 ssuite-storage.s3.amazonaws.com/prod/1074787/6763d576-3536-11e7-9e05-124f7
 febbf4a/2683705/0629ca1a-6ebf-11ee-bd0f-0a58a9feac02/file/SV Security Even
 t.pdf
END:VEVENT
END:VCALENDAR
