BEGIN:VCALENDAR
VERSION:2.0
PRODID:SchoolNow
CALSCALE:GREGORIAN
BEGIN:VEVENT
UID:3b7afb36-6135-11ee-87e6-0ac5ad864e25
DTSTAMP:20231025T202758Z
SUMMARY:Spirit Week:  Ironmen Pride Day
LOCATION:Steel Valley School District
URL;VALUE=URI:https://www.steelvalleysd.org/communication/calendar/4821297/
 spirit-week-ironmen-pride-day
DTSTART;VALUE=DATE:20231013
DTEND;VALUE=DATE:20231014
END:VEVENT
END:VCALENDAR
