BEGIN:VCALENDAR
VERSION:2.0
PRODID:SchoolNow
CALSCALE:GREGORIAN
BEGIN:VEVENT
UID:40568da6-6134-11ee-ae35-02a84f0bea25
DTSTAMP:20231025T203246Z
SUMMARY:Spirit Week: Powder Puff Game
LOCATION:William V. Campbell Athletic Field
URL;VALUE=URI:https://www.steelvalleysd.org/communication/calendar/4821295/
 spirit-week-powder-puff-game
DTSTART:20231011T220000Z
DTEND:20231012T005900Z
END:VEVENT
END:VCALENDAR
