BEGIN:VCALENDAR
VERSION:2.0
PRODID:SchoolNow
CALSCALE:GREGORIAN
BEGIN:VEVENT
UID:76b3b122-6133-11ee-8eaf-0a58a9feac02
DTSTAMP:20231025T202735Z
SUMMARY:Spirit Week:  Look-A-Like Day
LOCATION:Steel Valley School District
URL;VALUE=URI:https://www.steelvalleysd.org/communication/calendar/4821294/
 spirit-week-look-a-like-day
DTSTART;VALUE=DATE:20231012
DTEND;VALUE=DATE:20231013
END:VEVENT
END:VCALENDAR
