BEGIN:VCALENDAR
VERSION:2.0
PRODID:SchoolNow
CALSCALE:GREGORIAN
BEGIN:VEVENT
UID:db080fd4-6132-11ee-919a-0a58a9feac02
DTSTAMP:20231025T202821Z
SUMMARY:Spirit Week:  Class Color Day
LOCATION:Steel Valley School District
URL;VALUE=URI:https://www.steelvalleysd.org/communication/calendar/4821293/
 spirit-week-class-color-day
DTSTART;VALUE=DATE:20231011
DTEND;VALUE=DATE:20231012
END:VEVENT
END:VCALENDAR
