BEGIN:VCALENDAR
VERSION:2.0
PRODID:SchoolNow
CALSCALE:GREGORIAN
BEGIN:VEVENT
UID:3c12cba8-6132-11ee-914e-0a58a9feac02
DTSTAMP:20231025T202638Z
SUMMARY:Spirit Week:  Tired Tuesday
LOCATION:Steel Valley School District
URL;VALUE=URI:https://www.steelvalleysd.org/communication/calendar/4821289/
 spirit-week-tired-tuesday
DTSTART;VALUE=DATE:20231010
DTEND;VALUE=DATE:20231011
END:VEVENT
END:VCALENDAR
