BEGIN:VCALENDAR
VERSION:2.0
PRODID:SchoolNow
CALSCALE:GREGORIAN
BEGIN:VEVENT
UID:eb722014-6130-11ee-8b92-0acd9ea49f0b
DTSTAMP:20231002T143523Z
SUMMARY:Teacher Inservice/No School for Students
LOCATION:Steel Valley School District
URL;VALUE=URI:https://www.steelvalleysd.org/communication/calendar/4821284/
 teacher-inservice-no-school-for-students-clone
DTSTART:20231009T120000Z
DTEND:20231009T200000Z
END:VEVENT
END:VCALENDAR
