BEGIN:VCALENDAR
VERSION:2.0
PRODID:SchoolNow
CALSCALE:GREGORIAN
BEGIN:VEVENT
UID:4c9c3398-5d62-11ee-9e18-0a9d2e3fd805
DTSTAMP:20230927T181846Z
SUMMARY:One Valley Community Cleanup
LOCATION:Homestead\, Munhall  and West Homestead
URL;VALUE=URI:https://www.steelvalleysd.org/communication/calendar/4802106/
 one-valley-community-cleanup
DTSTART:20231014T130000Z
DTEND:20231014T160000Z
END:VEVENT
END:VCALENDAR
