BEGIN:VCALENDAR
VERSION:2.0
PRODID:SchoolNow
CALSCALE:GREGORIAN
BEGIN:VEVENT
UID:025193f6-5d61-11ee-9b6b-024266b72ea1
DTSTAMP:20231130T153143Z
SUMMARY:2023 SV Holiday Parade
LOCATION:8th Avenue\, Homestead
URL;VALUE=URI:https://www.steelvalleysd.org/communication/calendar/4802102/
 2023-sv-holiday-parade
DTSTART:20231202T170000Z
DTEND:20231202T190000Z
END:VEVENT
END:VCALENDAR
