BEGIN:VCALENDAR
VERSION:2.0
PRODID:SchoolNow
CALSCALE:GREGORIAN
BEGIN:VEVENT
UID:2299ab0e-5289-11ee-aee5-02b38ad9ecb9
DTSTAMP:20230913T230515Z
SUMMARY:SV vs Imani
URL;VALUE=URI:https://www.steelvalleysd.org/communication/calendar/4733499/
 sv-vs-imani
DTSTART:20230915T224800Z
DTEND:20230915T234800Z
END:VEVENT
END:VCALENDAR
