BEGIN:VCALENDAR
VERSION:2.0
PRODID:SchoolNow
CALSCALE:GREGORIAN
BEGIN:VEVENT
UID:837affe8-5001-11ee-b682-0a58a9feac02
DTSTAMP:20230910T174340Z
SUMMARY:Blood Drive
LOCATION:High School Gym
URL;VALUE=URI:https://www.steelvalleysd.org/communication/calendar/4711886/
 blood-drive
DTSTART:20230920T120000Z
DTEND:20230920T180000Z
END:VEVENT
END:VCALENDAR
