BEGIN:VCALENDAR
VERSION:2.0
PRODID:SchoolNow
CALSCALE:GREGORIAN
BEGIN:VEVENT
UID:99719d66-45de-11ee-b531-0a58a9feac02
DTSTAMP:20230828T200857Z
SUMMARY:Early Dismissal for Students
LOCATION:Steel Valley School District
URL;VALUE=URI:https://www.steelvalleysd.org/communication/calendar/4643715/
 early-dismissal-for-students
DTSTART:20230926T120000Z
DTEND:20230926T200000Z
END:VEVENT
END:VCALENDAR
