BEGIN:VCALENDAR
VERSION:2.0
PRODID:SchoolNow
CALSCALE:GREGORIAN
BEGIN:VEVENT
UID:74bac250-45dd-11ee-abb2-027036ee8449
DTSTAMP:20230828T200157Z
SUMMARY:Park - Open House
LOCATION:Park Elementary
URL;VALUE=URI:https://www.steelvalleysd.org/communication/calendar/4643709/
 ope
DTSTART:20230906T210000Z
DTEND:20230906T230000Z
END:VEVENT
END:VCALENDAR
